BEGIN:VCALENDAR
VERSION:2.0
PRODID:-//ChamberMaster//Event Calendar 2.0//EN
METHOD:PUBLISH
X-PUBLISHED-TTL:P1H
REFRESH-INTERVAL:P1H
CALSCALE:GREGORIAN
BEGIN:VTIMEZONE
TZID:America/Chicago
BEGIN:DAYLIGHT
RRULE:FREQ=YEARLY;BYMONTH=3;BYDAY=2SU
DTSTART:20070101T000000
TZOFFSETFROM:-0600
TZOFFSETTO:-0500
TZNAME:Central Daylight Time
END:DAYLIGHT
BEGIN:STANDARD
RRULE:FREQ=YEARLY;BYMONTH=11;BYDAY=1SU
DTSTART:20070101T000000
TZOFFSETFROM:-0500
TZOFFSETTO:-0600
TZNAME:Central Standard Time
END:STANDARD
END:VTIMEZONE
BEGIN:VEVENT
DTSTART;TZID=America/Chicago:20260513T080000
DTEND;TZID=America/Chicago:20260515T120000
X-MICROSOFT-CDO-ALLDAYEVENT:FALSE
SUMMARY:16th Annual MARATSA Conference
DESCRIPTION:The annual MARATSA Conference is the regional association conference of ATSA and is designed for mental health professionals working to prevent and treat sexual abuse. This dynamic\, trauma-informed gathering brings together clinicians\, community advocates\, researchers\, forensic specialists\, and policy leaders to strengthen clinical skills\, deepen ethical practice\, and advance systemic change.
X-ALT-DESC;FMTTYPE=text/html:<!DOCTYPE html><html><head><title></title></head><body aria-disabled="false"><p>The annual MARATSA Conference is the regional association conference of ATSA and is designed for mental health professionals working to prevent and treat sexual abuse. This dynamic\, trauma-informed gathering brings together clinicians\, community advocates\, researchers\, forensic specialists\, and policy leaders to strengthen clinical skills\, deepen ethical practice\, and advance systemic change.</p></body></html>
LOCATION:250 Kalahari Blvd Pocono Manor PA 18349
UID:e.3609.1445088
SEQUENCE:3
DTSTAMP:20260425T210209Z
URL:https://members.atsa.com/chaptereventscalendar/Details/16th-annual-maratsa-conference-1711566?sourceTypeId=Hub
END:VEVENT
END:VCALENDAR
